BEGIN:VCALENDAR
VERSION:2.0
PRODID:-// - ECPv6.15.20//NONSGML v1.0//EN
CALSCALE:GREGORIAN
METHOD:PUBLISH
X-ORIGINAL-URL:https://www.tarantababu.de
X-WR-CALDESC:Veranstaltungen für 
REFRESH-INTERVAL;VALUE=DURATION:PT1H
X-Robots-Tag:noindex
X-PUBLISHED-TTL:PT1H
BEGIN:VTIMEZONE
TZID:Europe/Berlin
BEGIN:DAYLIGHT
TZOFFSETFROM:+0100
TZOFFSETTO:+0200
TZNAME:CEST
DTSTART:20240331T010000
END:DAYLIGHT
BEGIN:STANDARD
TZOFFSETFROM:+0200
TZOFFSETTO:+0100
TZNAME:CET
DTSTART:20241027T010000
END:STANDARD
BEGIN:DAYLIGHT
TZOFFSETFROM:+0100
TZOFFSETTO:+0200
TZNAME:CEST
DTSTART:20250330T010000
END:DAYLIGHT
BEGIN:STANDARD
TZOFFSETFROM:+0200
TZOFFSETTO:+0100
TZNAME:CET
DTSTART:20251026T010000
END:STANDARD
BEGIN:DAYLIGHT
TZOFFSETFROM:+0100
TZOFFSETTO:+0200
TZNAME:CEST
DTSTART:20260329T010000
END:DAYLIGHT
BEGIN:STANDARD
TZOFFSETFROM:+0200
TZOFFSETTO:+0100
TZNAME:CET
DTSTART:20261025T010000
END:STANDARD
END:VTIMEZONE
BEGIN:VEVENT
DTSTART;TZID=Europe/Berlin:20251003T183000
DTEND;TZID=Europe/Berlin:20251003T220000
DTSTAMP:20260423T104655
CREATED:20250502T082358Z
LAST-MODIFIED:20250521T063845Z
UID:2138-1759516200-1759528800@www.tarantababu.de
SUMMARY:Abendblick-Musik
DESCRIPTION:Bei der Abendblick-Musik gibt es in gemütlicher und wertschätzender Atmosphäre sechs abwechslungsreiche Überraschungsauftritte von Musiker*innen. Von Anfänger*innen bis zu Profis\, jede Musikrichtung und Sprache ist alles dabei. Man kann bei einem Getränk neue Leute kennenlernen und nach den Auftritten zusammen jammen. \nFür weitere Einblicke schau gern auf unseren Instagramkanal vorbei: @abendblick.musik \n  \nPreisinformation: \nDer Eintritt kostet 2\,50€ und die Getränke und Snacks stellen wir auf Spendenbasis zur Verfügung.
URL:https://www.tarantababu.de/event/abendblick-musik-11/
LOCATION:Kulturhaus Taranta Babu\, Amalienstraße 33\, Dortmund\, 44137\, Germany
CATEGORIES:Kulturhaus
ATTACH;FMTTYPE=image/png:https://www.tarantababu.de/wp-content/uploads/2025/05/Flyer.png
END:VEVENT
END:VCALENDAR